BEGIN:VCALENDAR
VERSION:2.0
PRODID:-//Sterrenwacht Uttiloch - ECPv6.15.20//NONSGML v1.0//EN
CALSCALE:GREGORIAN
METHOD:PUBLISH
X-WR-CALNAME:Sterrenwacht Uttiloch
X-ORIGINAL-URL:https://kooiman.info
X-WR-CALDESC:Evenementen voor Sterrenwacht Uttiloch
REFRESH-INTERVAL;VALUE=DURATION:PT1H
X-Robots-Tag:noindex
X-PUBLISHED-TTL:PT1H
BEGIN:VTIMEZONE
TZID:Europe/Amsterdam
BEGIN:DAYLIGHT
TZOFFSETFROM:+0100
TZOFFSETTO:+0200
TZNAME:CEST
DTSTART:20250330T010000
END:DAYLIGHT
BEGIN:STANDARD
TZOFFSETFROM:+0200
TZOFFSETTO:+0100
TZNAME:CET
DTSTART:20251026T010000
END:STANDARD
BEGIN:DAYLIGHT
TZOFFSETFROM:+0100
TZOFFSETTO:+0200
TZNAME:CEST
DTSTART:20260329T010000
END:DAYLIGHT
BEGIN:STANDARD
TZOFFSETFROM:+0200
TZOFFSETTO:+0100
TZNAME:CET
DTSTART:20261025T010000
END:STANDARD
BEGIN:DAYLIGHT
TZOFFSETFROM:+0100
TZOFFSETTO:+0200
TZNAME:CEST
DTSTART:20270328T010000
END:DAYLIGHT
BEGIN:STANDARD
TZOFFSETFROM:+0200
TZOFFSETTO:+0100
TZNAME:CET
DTSTART:20271031T010000
END:STANDARD
END:VTIMEZONE
BEGIN:VEVENT
DTSTART;TZID=Europe/Amsterdam:20260423T220000
DTEND;TZID=Europe/Amsterdam:20260423T230000
DTSTAMP:20260423T034835
CREATED:20260415T091935Z
LAST-MODIFIED:20260415T091935Z
UID:1261-1776981600-1776985200@kooiman.info
SUMMARY:Samenstand Venus\, Uranus en de Plejaden
DESCRIPTION:Omstreeks 22:00 uur kunnen we een mooie samenstand zien van de planeten Venus\, Uranus en de Plejaden.
URL:https://kooiman.info/event/samenstand-venus-uranus-en-de-plejaden/
CATEGORIES:Samenstand,Waarneming
ATTACH;FMTTYPE=image/png:https://kooiman.info/wp-content/uploads/2026/04/pleiades_venus.png
END:VEVENT
END:VCALENDAR