BEGIN:VCALENDAR
VERSION:2.0
PRODID:-//Sterrenwacht Uttiloch - ECPv6.15.20//NONSGML v1.0//EN
CALSCALE:GREGORIAN
METHOD:PUBLISH
X-WR-CALNAME:Sterrenwacht Uttiloch
X-ORIGINAL-URL:https://kooiman.info
X-WR-CALDESC:Evenementen voor Sterrenwacht Uttiloch
REFRESH-INTERVAL;VALUE=DURATION:PT1H
X-Robots-Tag:noindex
X-PUBLISHED-TTL:PT1H
BEGIN:VTIMEZONE
TZID:Europe/Amsterdam
BEGIN:DAYLIGHT
TZOFFSETFROM:+0100
TZOFFSETTO:+0200
TZNAME:CEST
DTSTART:20250330T010000
END:DAYLIGHT
BEGIN:STANDARD
TZOFFSETFROM:+0200
TZOFFSETTO:+0100
TZNAME:CET
DTSTART:20251026T010000
END:STANDARD
BEGIN:DAYLIGHT
TZOFFSETFROM:+0100
TZOFFSETTO:+0200
TZNAME:CEST
DTSTART:20260329T010000
END:DAYLIGHT
BEGIN:STANDARD
TZOFFSETFROM:+0200
TZOFFSETTO:+0100
TZNAME:CET
DTSTART:20261025T010000
END:STANDARD
BEGIN:DAYLIGHT
TZOFFSETFROM:+0100
TZOFFSETTO:+0200
TZNAME:CEST
DTSTART:20270328T010000
END:DAYLIGHT
BEGIN:STANDARD
TZOFFSETFROM:+0200
TZOFFSETTO:+0100
TZNAME:CET
DTSTART:20271031T010000
END:STANDARD
END:VTIMEZONE
BEGIN:VEVENT
DTSTART;TZID=Europe/Amsterdam:20260411T020000
DTEND;TZID=Europe/Amsterdam:20260411T023000
DTSTAMP:20260425T013750
CREATED:20260408T114455Z
LAST-MODIFIED:20260410T122722Z
UID:1236-1775872800-1775874600@kooiman.info
SUMMARY:Terugkeer Artemis II missie naar de Maan
DESCRIPTION:De tiendaagse bemande maanmissie zal op 10 april eindigen met een geplande landing in zee voor de kust van Californië. \nNASA verwacht dat de bemanning vrijdag om 17:07 uur PDT (zaterdag 11 arpil 02:07 uur MEZT) in de Stille Oceaan bij \nSan Diego zal landen.\nKijk naar de live uitzending van de terugkeer op youtube of op de site van de Nasa.
URL:https://kooiman.info/event/terugkeer-artemis-ii-missie-naar-de-maan/
CATEGORIES:Ruimtevaart
ATTACH;FMTTYPE=image/webp:https://kooiman.info/wp-content/uploads/2026/04/splashdown.webp
END:VEVENT
END:VCALENDAR