BEGIN:VCALENDAR
VERSION:2.0
PRODID:-//Sterrenwacht Uttiloch - ECPv6.15.20//NONSGML v1.0//EN
CALSCALE:GREGORIAN
METHOD:PUBLISH
X-WR-CALNAME:Sterrenwacht Uttiloch
X-ORIGINAL-URL:https://kooiman.info
X-WR-CALDESC:Evenementen voor Sterrenwacht Uttiloch
REFRESH-INTERVAL;VALUE=DURATION:PT1H
X-Robots-Tag:noindex
X-PUBLISHED-TTL:PT1H
BEGIN:VTIMEZONE
TZID:Europe/Amsterdam
BEGIN:DAYLIGHT
TZOFFSETFROM:+0100
TZOFFSETTO:+0200
TZNAME:CEST
DTSTART:20240331T010000
END:DAYLIGHT
BEGIN:STANDARD
TZOFFSETFROM:+0200
TZOFFSETTO:+0100
TZNAME:CET
DTSTART:20241027T010000
END:STANDARD
BEGIN:DAYLIGHT
TZOFFSETFROM:+0100
TZOFFSETTO:+0200
TZNAME:CEST
DTSTART:20250330T010000
END:DAYLIGHT
BEGIN:STANDARD
TZOFFSETFROM:+0200
TZOFFSETTO:+0100
TZNAME:CET
DTSTART:20251026T010000
END:STANDARD
BEGIN:DAYLIGHT
TZOFFSETFROM:+0100
TZOFFSETTO:+0200
TZNAME:CEST
DTSTART:20260329T010000
END:DAYLIGHT
BEGIN:STANDARD
TZOFFSETFROM:+0200
TZOFFSETTO:+0100
TZNAME:CET
DTSTART:20261025T010000
END:STANDARD
BEGIN:DAYLIGHT
TZOFFSETFROM:+0100
TZOFFSETTO:+0200
TZNAME:CEST
DTSTART:20270328T010000
END:DAYLIGHT
BEGIN:STANDARD
TZOFFSETFROM:+0200
TZOFFSETTO:+0100
TZNAME:CET
DTSTART:20271031T010000
END:STANDARD
END:VTIMEZONE
BEGIN:VEVENT
DTSTART;TZID=Europe/Amsterdam:20251017T200000
DTEND;TZID=Europe/Amsterdam:20251017T220000
DTSTAMP:20260425T145303
CREATED:20250918T072954Z
LAST-MODIFIED:20250918T073103Z
UID:768-1760731200-1760738400@kooiman.info
SUMMARY:Komeet C/2025 R2 (Swan) nabij Adelaarsnevel
DESCRIPTION:Op 17 oktober staat de komeet C/2025 R2 (SWAN) nabij de Adelaarsnevel.\nVanaf omstreeks 20:00 kan dit een mooie gelegenheid zijn voor astrofotografie !
URL:https://kooiman.info/event/komeet-c-2025-r2-swan-nabij-adelaarsnevel/
CATEGORIES:Samenstand
ATTACH;FMTTYPE=image/png:https://kooiman.info/wp-content/uploads/2025/09/C_2025_R2_Eagle.png
END:VEVENT
BEGIN:VEVENT
DTSTART;TZID=Europe/Amsterdam:20260218T183000
DTEND;TZID=Europe/Amsterdam:20260218T190000
DTSTAMP:20260425T145303
CREATED:20260206T200651Z
LAST-MODIFIED:20260218T095041Z
UID:994-1771439400-1771441200@kooiman.info
SUMMARY:Samenstand Venus\, Mercurius\, Saturnus en de zeer smalle maansikkel
DESCRIPTION:In de avondschemering van woensdag 18 februari kunnen we omstreeks 18:30 aan de westelijke horizon een fraaie samenstand zien van de zeer smalle maansikkel en de planeten Venus\, Mercurius en Saturnus.\nDe lichtzwakke planeet Neptunus staat dicht bij Saturnus\, maar is niet met het ongewapende oog waarneembaar.
URL:https://kooiman.info/event/samenstand-venus-mercurius-saturunus-en-de-zeer-smalle-maansikkel/
CATEGORIES:Samenstand,Waarneming
ATTACH;FMTTYPE=image/png:https://kooiman.info/wp-content/uploads/2026/02/IMG_2074.png
END:VEVENT
BEGIN:VEVENT
DTSTART;TZID=Europe/Amsterdam:20260219T183000
DTEND;TZID=Europe/Amsterdam:20260219T190000
DTSTAMP:20260425T145303
CREATED:20260206T201846Z
LAST-MODIFIED:20260206T201846Z
UID:1002-1771525800-1771527600@kooiman.info
SUMMARY:Samenstand Venus\, Mercurius\, Saturnus en de Maan
DESCRIPTION:In de avondschemering van donderdag 19 februari kunnen we omstreeks 18:30 aan de westelijke horizon een fraaie samenstand zien van de smalle maansikkel en de planeten Venus\, Mercurius en Saturnus.\nDe lichtzwakke planeet Neptunus staat dicht bij Saturnus\, maar is niet met het ongewapende oog waarneembaar.
URL:https://kooiman.info/event/samenstand-venus-mercurius-saturnus-en-de-maan/
CATEGORIES:Samenstand,Waarneming
ATTACH;FMTTYPE=image/png:https://kooiman.info/wp-content/uploads/2026/02/IMG_2075.png
END:VEVENT
BEGIN:VEVENT
DTSTART;TZID=Europe/Amsterdam:20260228T183000
DTEND;TZID=Europe/Amsterdam:20260302T190000
DTSTAMP:20260425T145303
CREATED:20260225T122908Z
LAST-MODIFIED:20260302T134641Z
UID:1163-1772303400-1772478000@kooiman.info
SUMMARY:Planetenparade - 6 planeten tegelijk zichtbaar
DESCRIPTION:Zaterdagavond 28 februari kunnen we kort na zonsondergang een poging wagen om 6 planeten waar te nemen.\nSommige planeten vereisen een verrekijker of telescoop\, maar fotografisch moet het zeker lukken om ze allemaal vast te leggen. \nOok de dagen daarna kan dit worden waargenomen.
URL:https://kooiman.info/event/planetenparade-6-planeten-tegelijk-zichtbaar/
CATEGORIES:Samenstand,Waarneming
ATTACH;FMTTYPE=image/png:https://kooiman.info/wp-content/uploads/2026/02/IMG_2121.png
END:VEVENT
BEGIN:VEVENT
DTSTART;TZID=Europe/Amsterdam:20260320T200000
DTEND;TZID=Europe/Amsterdam:20260320T203000
DTSTAMP:20260425T145303
CREATED:20260320T085135Z
LAST-MODIFIED:20260320T085135Z
UID:1206-1774036800-1774038600@kooiman.info
SUMMARY:Zeer smalle maansikkel nabij Venus
DESCRIPTION:Omstreeks 20:00 uur kunnen we een mooie samenstand waarnemen van de zeer smalle maansikkel met de planeet Venus.
URL:https://kooiman.info/event/zeer-smalle-maansikkel-nabij-venus/
CATEGORIES:Samenstand,Waarneming
ATTACH;FMTTYPE=image/png:https://kooiman.info/wp-content/uploads/2026/03/moon_venus_20_03_2026.png
END:VEVENT
BEGIN:VEVENT
DTSTART;TZID=Europe/Amsterdam:20260419T210000
DTEND;TZID=Europe/Amsterdam:20260419T220000
DTSTAMP:20260425T145303
CREATED:20260409T080816Z
LAST-MODIFIED:20260409T081048Z
UID:1251-1776632400-1776636000@kooiman.info
SUMMARY:Smalle Maansikkel nabij Plejaden en Venus
DESCRIPTION:Omstreeks 21:00 uur kunnen we een mooie samenstand waarnemen van de zeer smalle maansikkel\, dicht bij de Plejaden\, en de planeet Venus.
URL:https://kooiman.info/event/smalle-maansikkel-nabij-pleiaden-en-venus/
CATEGORIES:Samenstand
ATTACH;FMTTYPE=image/png:https://kooiman.info/wp-content/uploads/2026/04/luna_pleiades_venus.png
END:VEVENT
BEGIN:VEVENT
DTSTART;TZID=Europe/Amsterdam:20260423T220000
DTEND;TZID=Europe/Amsterdam:20260423T230000
DTSTAMP:20260425T145303
CREATED:20260415T091935Z
LAST-MODIFIED:20260415T091935Z
UID:1261-1776981600-1776985200@kooiman.info
SUMMARY:Samenstand Venus\, Uranus en de Plejaden
DESCRIPTION:Omstreeks 22:00 uur kunnen we een mooie samenstand zien van de planeten Venus\, Uranus en de Plejaden.
URL:https://kooiman.info/event/samenstand-venus-uranus-en-de-plejaden/
CATEGORIES:Samenstand,Waarneming
ATTACH;FMTTYPE=image/png:https://kooiman.info/wp-content/uploads/2026/04/pleiades_venus.png
END:VEVENT
END:VCALENDAR